BEGIN:VCALENDAR
VERSION:2.0
PRODID:-//Patria de Martí//NONSGML kigkonsult.se iCalcreator 2.41.92//
CALSCALE:GREGORIAN
METHOD:PUBLISH
UID:31383032-3134-4638-a133-393933343164
X-WR-CALNAME:iCagenda
X-WR-CALDESC:Event Management Extension for Joomla!
X-WR-RELCALID:3E26604A-50F4-4449-8B3E-E4F4932D05B5
X-WR-TIMEZONE:America/New_York
BEGIN:VTIMEZONE
TZID:America/New_York
TZUNTIL:20260308T070000Z
BEGIN:STANDARD
TZNAME:EST
DTSTART:20231105T020000
TZOFFSETFROM:-0400
TZOFFSETTO:-0500
RDATE:20241103T020000
RDATE:20251102T020000
END:STANDARD
BEGIN:DAYLIGHT
TZNAME:EDT
DTSTART:20240310T020000
TZOFFSETFROM:-0500
TZOFFSETTO:-0400
RDATE:20250309T020000
END:DAYLIGHT
END:VTIMEZONE
BEGIN:VEVENT
UID:61363333-3530-4231-b066-633461613466
DTSTAMP:20260423T203704Z
CATEGORIES:Simposios
CLASS:PUBLIC
DESCRIPTION;ALTREP="CID:<FFFF__=0ABBE548DFE235B58f9e8a93d@coffeebean.com>":
 Invitación Simposio El modelo dictatorial del Foro de Sao Paulo\nPatria de
  Martí - The CubanAmerican Voice\nAlianza Democrática\nSe complacen en inv
 itarlos al Simposio\nEl modelo dictatorial del Foro de Sao Paulo\nUn análi
 sis del modelo estructural post-soviético del socialismo para arribar al p
 oder en América Latina\nJueves 22 de Agosto\, 2024. 5:30 PM\nWestchester R
 egional Library\n9445 Coral Way\, Miami FL 33165\nTransmisión en vivo desd
 e nuestro sitio web&nbsp\;(patriademarti.com)\nProgramación de Evento\nPan
 elistas:\nJulio M. Shiling\,&nbsp\;Politólogo y director de&nbsp\;Patria d
 e Martí&nbsp\;y&nbsp\;The CubanAmerican Voice\nIrlanda Jerez\,&nbsp\;Activ
 ista nicaragüense y expresa política\nEdgard Simón Rodríguez\,&nbsp\;Aboga
 do y activista político venezolano&nbsp\;\nProducción técnica:&nbsp\;José 
 Tarano&nbsp\;Electronics JR Computer Design\nEl evento es abierto al públi
 co.&nbsp\;La entrada y el parqueo son gratis.\nSe transmitirá en vivo por 
 la página web&nbsp\;https://patriademarti.com&nbsp\;y los medios sociales 
 Facebook de Patria de Martí\, Twitter y YouTube en el canal T V Libertad\n
 Habrá una sesión de preguntas y respuestas. No dejen de asistir. Los esper
 amos.\nPara estar informado subscríbete en el siguiente enlace:\n{loadposi
 tion subscribe}
DTSTART:20240822T213000Z
DTEND:20240825T233000Z
GEO:00;0
LOCATION:Westchester Regional Library
ORGANIZER:
SEQUENCE:1
SUMMARY:Simposio El modelo dictatorial del Foro de Sao Paulo
TRANSP:OPAQUE
URL:https://patriademarti.com/simposios/calendario-de-eventos/8-simposio-el
 -modelo-dictatorial-del-foro-de-sao-paulo?layout=vcal
END:VEVENT
END:VCALENDAR
