BEGIN:VCALENDAR
VERSION:2.0
PRODID:-//Patria de Martí//NONSGML kigkonsult.se iCalcreator 2.41.92//
CALSCALE:GREGORIAN
METHOD:PUBLISH
UID:36363336-3738-4535-b434-643037303436
X-WR-CALNAME:iCagenda
X-WR-CALDESC:Event Management Extension for Joomla!
X-WR-RELCALID:3E26604A-50F4-4449-8B3E-E4F4932D05B5
X-WR-TIMEZONE:America/New_York
BEGIN:VTIMEZONE
TZID:America/New_York
TZUNTIL:20260308T070000Z
BEGIN:STANDARD
TZNAME:EST
DTSTART:20231105T020000
TZOFFSETFROM:-0400
TZOFFSETTO:-0500
RDATE:20241103T020000
RDATE:20251102T020000
END:STANDARD
BEGIN:DAYLIGHT
TZNAME:EDT
DTSTART:20240310T020000
TZOFFSETFROM:-0500
TZOFFSETTO:-0400
RDATE:20250309T020000
END:DAYLIGHT
END:VTIMEZONE
BEGIN:VEVENT
UID:66373632-6363-4362-a339-613661646639
DTSTAMP:20260423T203552Z
CATEGORIES:Simposios
CLASS:PUBLIC
DESCRIPTION;ALTREP="CID:<FFFF__=0ABBE548DFE235B58f9e8a93d@coffeebean.com>":
 Próximo Simposio programado para el&nbsp\;25 de julio\, 2024.\nPara estar 
 informado subscríbete en el siguiente enlace:\n{loadposition subscribe}
DTSTART:20240725T213000Z
DTEND:20240725T233000Z
GEO:+25.748444;-80.348373
LOCATION:Westchester Regional Library
ORGANIZER:
SEQUENCE:1
SUMMARY:Simposio 25 de julio\, 2024
TRANSP:OPAQUE
URL:https://patriademarti.com/simposios/calendario-de-eventos/7-simposio-25
 -de-julio-2024?layout=vcal
END:VEVENT
END:VCALENDAR
