BEGIN:VCALENDAR
VERSION:2.0
PRODID:-//Patria de Martí//NONSGML kigkonsult.se iCalcreator 2.41.92//
CALSCALE:GREGORIAN
METHOD:PUBLISH
UID:66613137-3833-4832-a534-316633326534
X-WR-CALNAME:iCagenda
X-WR-CALDESC:Event Management Extension for Joomla!
X-WR-RELCALID:3E26604A-50F4-4449-8B3E-E4F4932D05B5
X-WR-TIMEZONE:America/New_York
BEGIN:VTIMEZONE
TZID:America/New_York
TZUNTIL:20260308T070000Z
BEGIN:STANDARD
TZNAME:EST
DTSTART:20231105T020000
TZOFFSETFROM:-0400
TZOFFSETTO:-0500
RDATE:20241103T020000
RDATE:20251102T020000
END:STANDARD
BEGIN:DAYLIGHT
TZNAME:EDT
DTSTART:20240310T020000
TZOFFSETFROM:-0500
TZOFFSETTO:-0400
RDATE:20250309T020000
END:DAYLIGHT
END:VTIMEZONE
BEGIN:VEVENT
UID:64303236-6637-4335-b162-396235636465
DTSTAMP:20260423T203530Z
CATEGORIES:Simposios
CLASS:PUBLIC
DESCRIPTION;ALTREP="CID:<FFFF__=0ABBE548DFE235B58f9e8a93d@coffeebean.com>":
 Invitación Simposio Rusia en Cuba\nPatria de Martí - The CubanAmerican Voi
 ce\nAlianza Democrática\nSe complacen en invitarlos al Simposio\nSimposio 
 Rusia en Cuba\nRelaciones entre la URSS/Rusia y Cuba comunista\nJueves 27 
 de Junio\, 2024. 5:30 PM\nWestchester Regional Library\n9445 Coral Way\, M
 iami FL 33165\nTransmisión en vivo desde nuestro sitio web&nbsp\;(patriade
 marti.com)\nProgramación de Evento\nModerador:\nJulio M. Shiling\nPanelist
 as:\nDiego Trinidad\nAlfredo Gómez Llorens\nAlberto Luzárraga&nbsp\;\nProd
 ucción técnica:&nbsp\;José Tarano&nbsp\;Electronics JR Computer Design\nEl
  evento es abierto al público.&nbsp\;La entrada y el parqueo son gratis.\n
 Se transmitirá en vivo por la página web&nbsp\;https://patriademarti.com&n
 bsp\;y los medios sociales Facebook de Patria de Martí\, Twitter y YouTube
  en el canal T V Libertad\nHabrá una sesión de preguntas y respuestas. No 
 dejen de asistir. Los esperamos.\nPara estar informado subscríbete en el s
 iguiente enlace:\n{loadposition subscribe}
DTSTART:20240627T213000Z
DTEND:20240627T233000Z
GEO:00;0
LOCATION:Westchester Regional Library
ORGANIZER:
SEQUENCE:1
SUMMARY:Simposio Rusia en Cuba
TRANSP:OPAQUE
URL:https://patriademarti.com/simposios/calendario-de-eventos/6-simposio-ru
 sia-en-cuba?layout=vcal
END:VEVENT
END:VCALENDAR
