BEGIN:VCALENDAR
VERSION:2.0
PRODID:-//Patria de Martí//NONSGML kigkonsult.se iCalcreator 2.41.92//
CALSCALE:GREGORIAN
METHOD:PUBLISH
UID:62373639-3735-4463-b038-323433646337
X-WR-CALNAME:iCagenda
X-WR-CALDESC:Event Management Extension for Joomla!
X-WR-RELCALID:3E26604A-50F4-4449-8B3E-E4F4932D05B5
X-WR-TIMEZONE:America/New_York
BEGIN:VTIMEZONE
TZID:America/New_York
TZUNTIL:20251102T060000Z
BEGIN:STANDARD
TZNAME:EST
DTSTART:20231105T020000
TZOFFSETFROM:-0400
TZOFFSETTO:-0500
RDATE:20241103T020000
END:STANDARD
BEGIN:DAYLIGHT
TZNAME:EDT
DTSTART:20240310T020000
TZOFFSETFROM:-0500
TZOFFSETTO:-0400
RDATE:20250309T020000
END:DAYLIGHT
END:VTIMEZONE
BEGIN:VEVENT
UID:32366339-3536-4138-a466-303465306237
DTSTAMP:20260423T205102Z
CATEGORIES:Simposios
CLASS:PUBLIC
DESCRIPTION;ALTREP="CID:<FFFF__=0ABBE548DFE235B58f9e8a93d@coffeebean.com>":
 Invitación&nbsp\;Un partido de oposición en elecciones castristas: ¿funcio
 nal o figurativo?\nPatria de Martí - The CubanAmerican Voice\nAlianza Demo
 crática\nSe complacen en invitarlos al Simposio\nUn partido de oposición e
 n elecciones castristas: ¿funcional o figurativo?\n¿Es factible una oposic
 ión dentro de elecciones castristas o sería parte de un cambio fraudulento
  y cosmético?\nJueves 25 de Abril\, 2024. 5:30 PM\nWestchester Regional Li
 brary\n9445 Coral Way\, Miami FL 33165\nTransmisión en vivo desde nuestro 
 sitio web&nbsp\;(patriademarti.com)\nProgramación de Evento\nModerador:\nJ
 ulio M. Shiling\,&nbsp\;Politólogo y director de&nbsp\;Patria de Martí&nbs
 p\;y&nbsp\;The CubanAmerican Voice\nPanelistas:\nAlain Toledano Valiente\,
 &nbsp\;&nbsp\;Pastor y activista de DDHH\nSabrina Hernández\,&nbsp\;Period
 ista y presentadora\nLuis Leonel León\,&nbsp\;Periodista y productor ejecu
 tivo\nProducción técnica:&nbsp\;José Tarano&nbsp\;Electronics JR Computer 
 Design\nEl evento es abierto al público.&nbsp\;La entrada y el parqueo son
  gratis.\nSe transmitirá en vivo por la página web&nbsp\;https://patriadem
 arti.com&nbsp\;y los medios sociales Facebook de Patria de Martí\, Twitter
  y YouTube en el canal T V Libertad\nHabrá una sesión de preguntas y respu
 estas. No dejen de asistir. Los esperamos.\n{loadposition subscribe}
DTSTART:20240425T213000Z
DTEND:20240425T233000Z
GEO:00;0
LOCATION:Westchester Regional Library
ORGANIZER:
SEQUENCE:1
SUMMARY:Simposio Un partido de oposición en elecciones castristas: ¿funcion
 al o figurativo?
TRANSP:OPAQUE
URL:https://patriademarti.com/simposios/calendario-de-eventos/4-simposio-25
 -de-abril-2024?layout=vcal
END:VEVENT
END:VCALENDAR
