BEGIN:VCALENDAR
VERSION:2.0
PRODID:-//Patria de Martí//NONSGML kigkonsult.se iCalcreator 2.41.92//
CALSCALE:GREGORIAN
METHOD:PUBLISH
UID:31656165-3330-4134-b661-316261313636
X-WR-CALNAME:iCagenda
X-WR-CALDESC:Event Management Extension for Joomla!
X-WR-RELCALID:3E26604A-50F4-4449-8B3E-E4F4932D05B5
X-WR-TIMEZONE:America/New_York
BEGIN:VTIMEZONE
TZID:America/New_York
TZUNTIL:20271107T060000Z
BEGIN:STANDARD
TZNAME:EST
DTSTART:20251102T020000
TZOFFSETFROM:-0400
TZOFFSETTO:-0500
RDATE:20261101T020000
END:STANDARD
BEGIN:DAYLIGHT
TZNAME:EDT
DTSTART:20250309T020000
TZOFFSETFROM:-0500
TZOFFSETTO:-0400
RDATE:20260308T020000
RDATE:20270314T020000
END:DAYLIGHT
END:VTIMEZONE
BEGIN:VEVENT
UID:65323264-3432-4830-b836-646565303861
DTSTAMP:20260423T192614Z
CATEGORIES:Simposios
CLASS:PUBLIC
DESCRIPTION;ALTREP="CID:<FFFF__=0ABBE548DFE235B58f9e8a93d@coffeebean.com>":
 Invitación Simposio Maceo y su tenacidad\nPatria de Martí - The CubanAmeri
 can Voice\nAlianza Democrática\nSe complacen en invitarlos al Simposio\nMa
 ceo y su tenacidad\nJueves 18 de Diciembre\, 2025. 5:30 PM\nWestchester Re
 gional Library\n9445 Coral Way\, Miami FL 33165\nTransmisión en vivo desde
  nuestro sitio web&nbsp\;(patriademarti.com)\nProgramación de Evento\nMode
 rador:\nJulio M. Shiling\,&nbsp\;Politólogo y director de&nbsp\;Patria de 
 Martí&nbsp\;y&nbsp\;The CubanAmerican Voice\nPanelistas:\nAntonio Calatayu
 d\,&nbsp\;Escritor y periodista\nFrank Rodríguez\,&nbsp\;Economista y edit
 or\nDiego Trinidad\,&nbsp\;Historiador e investigador académico\nProducció
 n técnica:&nbsp\;José Tarano&nbsp\;Electronics JR Computer Design\nEl even
 to es abierto al público.&nbsp\;La entrada y el parqueo son gratis.\nSe tr
 ansmitirá en vivo por la página web&nbsp\;https://patriademarti.com&nbsp\;
 y los medios sociales Facebook de Patria de Martí\, Twitter y YouTube en e
 l canal T V Libertad\nHabrá una sesión de preguntas y respuestas. No dejen
  de asistir. Los esperamos.\n{loadposition subscribe}
DTSTART:20251218T223000Z
DTEND:20251219T003000Z
GEO:00;0
LOCATION:Westchester Regional Library
ORGANIZER:
SEQUENCE:1
SUMMARY:Simposio Maceo y su tenacidad
TRANSP:OPAQUE
URL:https://patriademarti.com/simposios/calendario-de-eventos/31-simposio-m
 aceo-y-su-tenacidad?layout=vcal
END:VEVENT
END:VCALENDAR
