BEGIN:VCALENDAR
VERSION:2.0
PRODID:-//Patria de Martí//NONSGML kigkonsult.se iCalcreator 2.41.92//
CALSCALE:GREGORIAN
METHOD:PUBLISH
UID:39383962-3338-4138-b364-666266396635
X-WR-CALNAME:iCagenda
X-WR-CALDESC:Event Management Extension for Joomla!
X-WR-RELCALID:3E26604A-50F4-4449-8B3E-E4F4932D05B5
X-WR-TIMEZONE:America/New_York
BEGIN:VTIMEZONE
TZID:America/New_York
TZUNTIL:20251102T060000Z
BEGIN:STANDARD
TZNAME:EST
DTSTART:20231105T020000
TZOFFSETFROM:-0400
TZOFFSETTO:-0500
RDATE:20241103T020000
END:STANDARD
BEGIN:DAYLIGHT
TZNAME:EDT
DTSTART:20240310T020000
TZOFFSETFROM:-0500
TZOFFSETTO:-0400
RDATE:20250309T020000
END:DAYLIGHT
END:VTIMEZONE
BEGIN:VEVENT
UID:37393064-3030-4564-b464-363962383037
DTSTAMP:20260423T205212Z
CATEGORIES:Simposios
CLASS:PUBLIC
DESCRIPTION;ALTREP="CID:<FFFF__=0ABBE548DFE235B58f9e8a93d@coffeebean.com>":
 El Simposio previsto para el 21 de marzo de 2024 queda suspendido porque l
 a sala de conferencias se utilizará para las elecciones anticipadas.\nPara
  estar informado subscríbete en el siguiente enlace\;\n{loadposition subsc
 ribe}
DTSTART:20240321T213000Z
DTEND:20240321T233000Z
GEO:00;0
LOCATION:Westchester Regional Library
ORGANIZER:
SEQUENCE:1
SUMMARY:Simposio 21 de marzo\, 2024 (SUSPENDIDO)
TRANSP:OPAQUE
URL:https://patriademarti.com/simposios/calendario-de-eventos/3-simposio-21
 -de-marzo-2024?layout=vcal
END:VEVENT
END:VCALENDAR
