BEGIN:VCALENDAR
VERSION:2.0
PRODID:-//Patria de Martí//NONSGML kigkonsult.se iCalcreator 2.41.92//
CALSCALE:GREGORIAN
METHOD:PUBLISH
UID:36666466-3138-4332-b031-396336623234
X-WR-CALNAME:iCagenda
X-WR-CALDESC:Event Management Extension for Joomla!
X-WR-RELCALID:3E26604A-50F4-4449-8B3E-E4F4932D05B5
X-WR-TIMEZONE:America/New_York
BEGIN:VTIMEZONE
TZID:America/New_York
TZUNTIL:20271107T060000Z
BEGIN:STANDARD
TZNAME:EST
DTSTART:20241103T020000
TZOFFSETFROM:-0400
TZOFFSETTO:-0500
RDATE:20251102T020000
RDATE:20261101T020000
END:STANDARD
BEGIN:DAYLIGHT
TZNAME:EDT
DTSTART:20250309T020000
TZOFFSETFROM:-0500
TZOFFSETTO:-0400
RDATE:20260308T020000
RDATE:20270314T020000
END:DAYLIGHT
END:VTIMEZONE
BEGIN:VEVENT
UID:34653531-6630-4165-b861-666563633735
DTSTAMP:20260423T191027Z
CATEGORIES:Simposios
CLASS:PUBLIC
DESCRIPTION;ALTREP="CID:<FFFF__=0ABBE548DFE235B58f9e8a93d@coffeebean.com>":
 &nbsp\;\nInvitación&nbsp\;Simposio EEUU vs. socialismo continental\nPatria
  de Martí - The CubanAmerican Voice\nAlianza Democrática\nSe complacen en 
 invitarlos al Simposio\nEEUU vs. socialismo continental&nbsp\;\nJueves 25 
 de Septiembre\, 2025. 5:30 PM\nWestchester Regional Library\n9445 Coral Wa
 y\, Miami FL 33165\nTransmisión en vivo desde nuestro sitio web&nbsp\;(pat
 riademarti.com)\nProgramación de Evento\nModerador:\nJulio M. Shiling\,&nb
 sp\;Politólogo y director de&nbsp\;Patria de Martí&nbsp\;y&nbsp\;The Cuban
 American Voice\nPanelistas:\nFrank Rodríguez\,&nbsp\;Economista y editor\n
 Rafael Marrero\,&nbsp\;CEO\,&nbsp\;Rafael Marrero &amp\; Co&nbsp\;y&nbsp\;
 analista de economía y geopolítica\nAlejandro Galguera\,&nbsp\;Contador Pú
 blico Certificado\,&nbsp\;presidente de&nbsp\;Alejandro Galguera\, CPA\, P
 A&nbsp\;\nProducción técnica:&nbsp\;José Tarano&nbsp\;Electronics JR Compu
 ter Design\nEl evento es abierto al público.&nbsp\;La entrada y el parqueo
  son gratis.\nSe transmitirá en vivo por la página web&nbsp\;https://patri
 ademarti.com&nbsp\;y los medios sociales Facebook de Patria de Martí\, Twi
 tter y YouTube en el canal T V Libertad\nHabrá una sesión de preguntas y r
 espuestas. No dejen de asistir. Los esperamos.\n{loadposition subscribe}\n
 &nbsp\;
DTSTART:20250925T144200Z
DTEND:20250925T233000Z
GEO:00;0
LOCATION:Westchester Regional Library
ORGANIZER:
SEQUENCE:1
SUMMARY:Simposio EEUU vs. socialismo continental
TRANSP:OPAQUE
URL:https://patriademarti.com/simposios/calendario-de-eventos/29-simposio-e
 euu-vs-socialismo-continental?layout=vcal
END:VEVENT
END:VCALENDAR
