BEGIN:VCALENDAR
VERSION:2.0
PRODID:-//Patria de Martí//NONSGML kigkonsult.se iCalcreator 2.41.92//
CALSCALE:GREGORIAN
METHOD:PUBLISH
UID:65336136-6531-4236-a363-326436333039
X-WR-CALNAME:iCagenda
X-WR-CALDESC:Event Management Extension for Joomla!
X-WR-RELCALID:3E26604A-50F4-4449-8B3E-E4F4932D05B5
X-WR-TIMEZONE:America/New_York
BEGIN:VTIMEZONE
TZID:America/New_York
TZUNTIL:20270314T070000Z
BEGIN:STANDARD
TZNAME:EST
DTSTART:20241103T020000
TZOFFSETFROM:-0400
TZOFFSETTO:-0500
RDATE:20251102T020000
RDATE:20261101T020000
END:STANDARD
BEGIN:DAYLIGHT
TZNAME:EDT
DTSTART:20250309T020000
TZOFFSETFROM:-0500
TZOFFSETTO:-0400
RDATE:20260308T020000
END:DAYLIGHT
END:VTIMEZONE
BEGIN:VEVENT
UID:34376630-6330-4962-b635-333865623331
DTSTAMP:20260423T191027Z
CATEGORIES:Simposios
CLASS:PUBLIC
DESCRIPTION;ALTREP="CID:<FFFF__=0ABBE548DFE235B58f9e8a93d@coffeebean.com>":
 &nbsp\;\nInvitación Simposio La UMAP\nPatria de Martí - The CubanAmerican 
 Voice\nAlianza Democrática\nSe complacen en invitarlos al Simposio\nLa&nbs
 p\;UMAP\nJueves 24 de Julio\, 2025. 5:30 PM\nWestchester Regional Library
 \n9445 Coral Way\, Miami FL 33165\nTransmisión en vivo desde nuestro sitio
  web&nbsp\;(patriademarti.com)\nProgramación de Evento\nModerador:\nJulio 
 M. Shiling\,&nbsp\;Politólogo y director de&nbsp\;Patria de Martí&nbsp\;y&
 nbsp\;The CubanAmerican Voice\nParticipantes\nJuan Antonio Villars\nEmilio
  Izquierdo\nRolando González\nFrancisco García Martínez\nJuaquin Rodríguez
 \nRaúl Inda\nEmilio Ramírez\nGarcía Dominguez\nRenato Gómez\nHablaran sobr
 e la pelicula venidera\nLilo Vilaplana y Reinol Rodriguez\nProducción técn
 ica:&nbsp\;José Tarano&nbsp\;Electronics JR Computer Design\nEl evento es 
 abierto al público.&nbsp\;La entrada y el parqueo son gratis.\nSe transmit
 irá en vivo por la página web&nbsp\;https://patriademarti.com&nbsp\;y los 
 medios sociales Facebook de Patria de Martí\, Twitter y YouTube en el cana
 l T V Libertad\nHabrá una sesión de preguntas y respuestas. No dejen de as
 istir. Los esperamos.\n{loadposition subscribe}\n&nbsp\;
DTSTART:20250724T213000Z
DTEND:20250724T233000Z
GEO:00;0
LOCATION:Westchester Regional Library
ORGANIZER:
SEQUENCE:1
SUMMARY:Simposio La UMAP
TRANSP:OPAQUE
URL:https://patriademarti.com/simposios/calendario-de-eventos/28-simposio-l
 a-umap?layout=vcal
END:VEVENT
END:VCALENDAR
