BEGIN:VCALENDAR
VERSION:2.0
PRODID:-//Patria de Martí//NONSGML kigkonsult.se iCalcreator 2.41.92//
CALSCALE:GREGORIAN
METHOD:PUBLISH
UID:34356532-6462-4464-b063-373366386236
X-WR-CALNAME:iCagenda
X-WR-CALDESC:Event Management Extension for Joomla!
X-WR-RELCALID:3E26604A-50F4-4449-8B3E-E4F4932D05B5
X-WR-TIMEZONE:America/New_York
BEGIN:VTIMEZONE
TZID:America/New_York
TZUNTIL:20270314T070000Z
BEGIN:STANDARD
TZNAME:EST
DTSTART:20241103T020000
TZOFFSETFROM:-0400
TZOFFSETTO:-0500
RDATE:20251102T020000
RDATE:20261101T020000
END:STANDARD
BEGIN:DAYLIGHT
TZNAME:EDT
DTSTART:20250309T020000
TZOFFSETFROM:-0500
TZOFFSETTO:-0400
RDATE:20260308T020000
END:DAYLIGHT
END:VTIMEZONE
BEGIN:VEVENT
UID:30663830-3632-4066-b166-373135376434
DTSTAMP:20260423T192904Z
CATEGORIES:Presentación de libros
CLASS:PUBLIC
DESCRIPTION;ALTREP="CID:<FFFF__=0ABBE548DFE235B58f9e8a93d@coffeebean.com>":
 Invitación Segundo Encuentro Internacional con el Libro Cubano Exiliado&nb
 sp\;– Juan Clark\, In Memoriam\nPEN Club de Escritores Cubanos en el Exili
 o\nInstituto de la Memoria Histórica Cubana Contra el Totalitarismo\nPlant
 ados Hasta la Libertad y la Democracia\nAcademia de la Historia Cubana en 
 el Exilio\nPatria de Martí\nAsociación Nacional de Educadores Cubano-Ameri
 canos\nEdiciones La Gota de Agua\nEdiciones D’Fana\nEditorial El Ateje\nIn
 sularis Magazine\nSe complacen en invitarlos al evento\nSegundo Encuentro 
 Internacional con el Libro Cubano Exiliado\nJuan Clark\, In Memoriam\nCent
 ro Comunitario Rebeca Sosa de la Ciudad de West Miami\, Florida\n1700 SW 6
 2nd Ave\, Miami\, FL 33155\nSábado 19 y domingo 20 de julio de 2025 de 9 A
 M a 5 PM\nEste encuentro es producto del trabajo de un grupo de exiliados 
 cubanos que hemos creado una Comisión para organizar y presentar un evento
  que rescate\, muestre y preserve el mayor número de libros producidos por
  el exilio cubano en estos más de 65 años.\nEl objetivo de este Segundo En
 cuentro Internacional es reunir a autores y casas editoriales comprometida
 s con la libertad y sin ningún lazo con el régimen totalitario cubano o su
 s asociados. Durante el Encuentro se impartirán conferencias sobre la libe
 rtad intelectual y los deberes y derechos de los intelectuales.\nPara ello
  necesitamos que todos los exiliados cubanos que hayan publicado un libro\
 , - o que conozcan de alguien que lo haya hecho- de cualquier género: desd
 e un recetario de cocina hasta un tratado de filosofía\, pasando por la no
 vela\, la poesía\, la historia\, etc.\, lo presente durante el SEGUNDO ENC
 UENTRO INTERNACIONAL CON EL LIBRO CUBANO EXILIADO\, que llevaremos a cabo 
 el 19 y 20 de julio de este año.\nEste Segundo Encuentro Internacional se 
 regirá por las normas establecidas en el precedente inspiradas en las prop
 uestas de Silvio Mancha\, uno de sus artífices principales\, que fueron:\n
 1)&nbsp\;&nbsp\;&nbsp\;&nbsp\;Incluir a libros y autores que el totalitari
 smo impide su presencia literaria en Cuba.\n2)&nbsp\;&nbsp\;&nbsp\;&nbsp\;
 Pueden participar casas editoriales y autores independientes que no tengan
  asociación intelectual o material con el régimen cubano.\n3)&nbsp\;&nbsp\
 ;&nbsp\;&nbsp\;Los libros publicados por casas editoriales que tengan la p
 robabilidad o la posibilidad de presentar sus libros en Cuba no pueden par
 ticipar.\nLA INVITACIÓN O CONVOCATORIA: es de carácter internacional\, y h
 asta el momento se ha extendido a todos los Estados Unidos\, Canadá\, Suda
 mérica\, España\, Francia\, Italia\, Bélgica…\n\nEl evento se llevará a ca
 bo el sábado 19 y domingo 20 de julio de 2025 en el Centro Comunitario Reb
 eca Sosa de la Ciudad de West Miami\, Florida\, EE.UU.\nSe darán varias co
 nferencias sobre el tema.\nSe realizarán mesas de autores donde varios esc
 ritores cubanos exiliados responderán preguntas del público.\nSe organizar
 á una Feria con libros escritos y publicados por cubanos exiliados que pod
 rán ser obsequiados o vendidos por sus autores\, editores o librerías que 
 los presenten.\n\nDEBE QUEDAR ENTENDIDO QUE: En este SEGUNDO ENCUENTRO INT
 ERNACIONAL CON EL LIBRO CUBANO EXILIADO\, solo se presentarán obras editad
 as por exiliados cubanos en el exilio. Obras escritas por autores o public
 adas por editoriales que mantengan vínculos intelectuales o materiales con
  la dictadura cubana y sus dependencias culturales no serán consideradas p
 ara su participación.\nInformación para el publico asistente\nLa entrada p
 ara el publico es gratuita.\nInformación para&nbsp\;escritores\, casas edi
 toriales\,&nbsp\;editores\, librerías y clubs literarios\nLos escritores\,
  casas editoriales\,&nbsp\;editores\, librerías y clubs literarios pueden 
 encontrar los detalles de inscripción\, reservaciones de espacios y mesas 
 de exhibición en:\nhttps://librocubanoexiliado2025.blogspot.com/\nPARA RES
 ERVACIONES O MAS INFORMACION\, POR FAVOR ESCRIBIR A\nlibrocubanoexiliado2d
 o@gmail.com&nbsp\;o&nbsp\;pencubaexilio@gmail.com\n{loadposition subscribe
 }
DTSTART:20250719T130000Z
DTEND:20250720T210000Z
GEO:00;0
LOCATION:Centro Comunitario Rebeca Sosa de la Ciudad de West Miami
ORGANIZER:
SEQUENCE:1
SUMMARY:Segundo Encuentro Internacional con el Libro Cubano Exiliado
TRANSP:OPAQUE
URL:https://patriademarti.com/simposios/calendario-de-eventos/27-segundo-en
 cuentro-internacional-con-el-libro-cubano-exiliado?layout=vcal
END:VEVENT
END:VCALENDAR
