BEGIN:VCALENDAR
VERSION:2.0
PRODID:-//Patria de Martí//NONSGML kigkonsult.se iCalcreator 2.41.92//
CALSCALE:GREGORIAN
METHOD:PUBLISH
UID:39306332-3966-4334-a235-316539663761
X-WR-CALNAME:iCagenda
X-WR-CALDESC:Event Management Extension for Joomla!
X-WR-RELCALID:3E26604A-50F4-4449-8B3E-E4F4932D05B5
X-WR-TIMEZONE:America/New_York
BEGIN:VTIMEZONE
TZID:America/New_York
TZUNTIL:20270314T070000Z
BEGIN:STANDARD
TZNAME:EST
DTSTART:20241103T020000
TZOFFSETFROM:-0400
TZOFFSETTO:-0500
RDATE:20251102T020000
RDATE:20261101T020000
END:STANDARD
BEGIN:DAYLIGHT
TZNAME:EDT
DTSTART:20250309T020000
TZOFFSETFROM:-0500
TZOFFSETTO:-0400
RDATE:20260308T020000
END:DAYLIGHT
END:VTIMEZONE
BEGIN:VEVENT
UID:32396638-6463-4735-b464-643266383762
DTSTAMP:20260423T191207Z
CATEGORIES:Foros
CLASS:PUBLIC
DESCRIPTION;ALTREP="CID:<FFFF__=0ABBE548DFE235B58f9e8a93d@coffeebean.com>":
 Invitación al Foro:&nbsp\;'Dictadura de Cuba\, 66 años de agresión a las d
 emocracia'\n&nbsp\;Interamerican Institute For Democracy\nPatria de Martí 
 - The CubanAmerican Voice\nSe complacen en invitarlos al Foro&nbsp\;\n&nbs
 p\;&nbsp\;Dictadura de Cuba\, 66 años de agresión a las democracia\nJueves
 \, 29 de Mayo\, 2025. 11:00 AM\nInteramerican Institute For Democracy\n210
 0 Coral Way\, Ste. 500\, Miami\, FL 33145\nTransmisión en VIVO por:&nbsp\;
 \nhttps://www.youtube.com/watch?v=lCVrrVcxXIg\nhttps://patriademarti.com/
 \nProgramación del Evento:\nKEYNOTE SPEAKER\nIliana Lavastida\nExpositores
 \nJulio M. Shiling\nJuan Antonio Blanco\nSergio Vega\nSilvia Iriondo\nMaib
 ort Petit\nJuan Lázaro Vélez\nCONCLUSIONES\nCarlos Sánchez Berzaín\nMODERA
 DOR\nFrancisco Endara Daza\nEl evento es abierto al público.\nSe transmiti
 rá en VIVO por el canal de Youtube del&nbsp\;Interamerican Institute For D
 emocracy&nbsp\;y por la página web de&nbsp\;patriademarti.com&nbsp\;y los 
 medios sociales.\nNo dejen de asistir. Los esperamos.\n{loadposition subsc
 ribe}
DTSTART:20250529T150000Z
DTEND:20250529T170000Z
GEO:00;0
LOCATION:Interamerican Institute For Democracy
ORGANIZER:
SEQUENCE:1
SUMMARY:Foro 'Dictadura de Cuba\, 66 años de agresión a las democracias'
TRANSP:OPAQUE
URL:https://patriademarti.com/simposios/calendario-de-eventos/26-foro-dicta
 dura-de-cuba-66-anos-de-agresion-a-las-democracias?layout=vcal
END:VEVENT
END:VCALENDAR
