BEGIN:VCALENDAR
VERSION:2.0
PRODID:-//Patria de Martí//NONSGML kigkonsult.se iCalcreator 2.41.92//
CALSCALE:GREGORIAN
METHOD:PUBLISH
UID:62623561-6233-4639-b466-393032323037
X-WR-CALNAME:iCagenda
X-WR-CALDESC:Event Management Extension for Joomla!
X-WR-RELCALID:3E26604A-50F4-4449-8B3E-E4F4932D05B5
X-WR-TIMEZONE:America/New_York
BEGIN:VTIMEZONE
TZID:America/New_York
TZUNTIL:20270314T070000Z
BEGIN:STANDARD
TZNAME:EST
DTSTART:20241103T020000
TZOFFSETFROM:-0400
TZOFFSETTO:-0500
RDATE:20251102T020000
RDATE:20261101T020000
END:STANDARD
BEGIN:DAYLIGHT
TZNAME:EDT
DTSTART:20250309T020000
TZOFFSETFROM:-0500
TZOFFSETTO:-0400
RDATE:20260308T020000
END:DAYLIGHT
END:VTIMEZONE
BEGIN:VEVENT
UID:66343134-3334-4439-b961-313430386162
DTSTAMP:20260423T191041Z
CATEGORIES:Simposios
CLASS:PUBLIC
DESCRIPTION;ALTREP="CID:<FFFF__=0ABBE548DFE235B58f9e8a93d@coffeebean.com>":
 Invitación&nbsp\;Simposio&nbsp\;La salubridad en Cuba republicana\nPatria 
 de Martí - The CubanAmerican Voice\nAlianza Democrática\nAcademia de la Hi
 storia de Cuba en el Exilio\nSe complacen en invitarlos al Simposio\nLa sa
 lubridad en Cuba republicana\nJueves 22 de Mayo\, 2025. 5:30 PM\nWestchest
 er Regional Library\n9445 Coral Way\, Miami FL 33165\nTransmisión en vivo 
 desde nuestro sitio web&nbsp\;(patriademarti.com)\nProgramación de Evento
 \nModerador:\nJulio M. Shiling\,&nbsp\;Politólogo y director de&nbsp\;Patr
 ia de Martí&nbsp\;y&nbsp\;The CubanAmerican Voice\nPanelistas:\nFrank Rodr
 íguez\,&nbsp\;Economista y editor\nSantiago Cárdenas\,&nbsp\;Médico y escr
 itor\nEduardo Lolo\,&nbsp\;Historiador y escritor&nbsp\;\nProducción técni
 ca:&nbsp\;José Tarano&nbsp\;Electronics JR Computer Design\nEl evento es a
 bierto al público.&nbsp\;La entrada y el parqueo son gratis.\nSe transmiti
 rá en vivo por la página web&nbsp\;https://patriademarti.com&nbsp\;y los m
 edios sociales Facebook de Patria de Martí\, Twitter y YouTube en el canal
  T V Libertad\nHabrá una sesión de preguntas y respuestas. No dejen de asi
 stir. Los esperamos.\n{loadposition subscribe}
DTSTART:20250522T213000Z
DTEND:20250522T233000Z
GEO:00;0
LOCATION:Westchester Regional Library
ORGANIZER:
SEQUENCE:1
SUMMARY:Simposio La Salubridad en Cuba Republicana
TRANSP:OPAQUE
URL:https://patriademarti.com/simposios/calendario-de-eventos/25-simposio-l
 a-salubridad-en-cuba-republicana?layout=vcal
END:VEVENT
END:VCALENDAR
