BEGIN:VCALENDAR
VERSION:2.0
PRODID:-//Patria de Martí//NONSGML kigkonsult.se iCalcreator 2.41.92//
CALSCALE:GREGORIAN
METHOD:PUBLISH
UID:39633232-3731-4134-b430-346232623436
X-WR-CALNAME:iCagenda
X-WR-CALDESC:Event Management Extension for Joomla!
X-WR-RELCALID:3E26604A-50F4-4449-8B3E-E4F4932D05B5
X-WR-TIMEZONE:America/New_York
BEGIN:VTIMEZONE
TZID:America/New_York
TZUNTIL:20261101T060000Z
BEGIN:STANDARD
TZNAME:EST
DTSTART:20241103T020000
TZOFFSETFROM:-0400
TZOFFSETTO:-0500
RDATE:20251102T020000
END:STANDARD
BEGIN:DAYLIGHT
TZNAME:EDT
DTSTART:20240310T020000
TZOFFSETFROM:-0500
TZOFFSETTO:-0400
RDATE:20250309T020000
RDATE:20260308T020000
END:DAYLIGHT
END:VTIMEZONE
BEGIN:VEVENT
UID:36366433-3361-4664-b734-373662336339
DTSTAMP:20260423T191133Z
CATEGORIES:Simposios
CLASS:PUBLIC
DESCRIPTION;ALTREP="CID:<FFFF__=0ABBE548DFE235B58f9e8a93d@coffeebean.com>":
 Invitación&nbsp\;Simposio&nbsp\;Guerra por los Caminos del Mundo\nPatria d
 e Martí - The CubanAmerican Voice\nAlianza Democrática\nSe complacen en in
 vitarlos al Simposio\nGuerra por los Caminos del Mundo\n&nbsp\;Un conversa
 torio con algunos de los protagonistas de la Guerra por los Caminos del Mu
 ndo\nJueves 27 de Febrero\, 2025. 5:30 PM\nWestchester Regional Library\n9
 445 Coral Way\, Miami FL 33165\nTransmisión en vivo desde nuestro sitio we
 b&nbsp\;(patriademarti.com)\nProgramación de Evento\nModerador:\nJulio M. 
 Shiling\nPanelistas:\nParticipantes de la Guerra por los Caminos del Mundo
 \nVirgilio Paz Romero\nDionisio Suárez&nbsp\;\nPedro Remón&nbsp\;\nEnrique
  Encinosa&nbsp\;\nProducción técnica:&nbsp\;José Tarano&nbsp\;Electronics 
 JR Computer Design\nEl evento es abierto al público.&nbsp\;La entrada y el
  parqueo son gratis.\nSe transmitirá en vivo por la página web&nbsp\;https
 ://patriademarti.com&nbsp\;y los medios sociales Facebook de Patria de Mar
 tí\, Twitter y YouTube en el canal T V Libertad\nHabrá una sesión de pregu
 ntas y respuestas. No dejen de asistir. Los esperamos.\n{loadposition subs
 cribe}
DTSTART:20250227T223000Z
DTEND:20250228T003000Z
GEO:00;0
LOCATION:
ORGANIZER:
SEQUENCE:1
SUMMARY:Simposio Guerra por los Caminos del Mundo
TRANSP:OPAQUE
URL:https://patriademarti.com/simposios/calendario-de-eventos/23-simposio-g
 uerra-por-los-caminos-del-mundo?layout=vcal
END:VEVENT
END:VCALENDAR
