BEGIN:VCALENDAR
VERSION:2.0
PRODID:-//Patria de Martí//NONSGML kigkonsult.se iCalcreator 2.41.92//
CALSCALE:GREGORIAN
METHOD:PUBLISH
UID:38386335-3562-4530-b265-613933346334
X-WR-CALNAME:iCagenda
X-WR-CALDESC:Event Management Extension for Joomla!
X-WR-RELCALID:3E26604A-50F4-4449-8B3E-E4F4932D05B5
X-WR-TIMEZONE:America/New_York
BEGIN:VTIMEZONE
TZID:America/New_York
TZUNTIL:20260308T070000Z
BEGIN:STANDARD
TZNAME:EST
DTSTART:20231105T020000
TZOFFSETFROM:-0400
TZOFFSETTO:-0500
RDATE:20241103T020000
RDATE:20251102T020000
END:STANDARD
BEGIN:DAYLIGHT
TZNAME:EDT
DTSTART:20240310T020000
TZOFFSETFROM:-0500
TZOFFSETTO:-0400
RDATE:20250309T020000
END:DAYLIGHT
END:VTIMEZONE
BEGIN:VEVENT
UID:34363735-3866-4132-b266-656334333137
DTSTAMP:20260423T203622Z
CATEGORIES:Congresos
CLASS:PUBLIC
DESCRIPTION;ALTREP="CID:<FFFF__=0ABBE548DFE235B58f9e8a93d@coffeebean.com>":
 Invitación Primer Congreso 'Educación en Cuba'\nPatria de Martí - The Cuba
 nAmerican Voice\nFIU - Graham Center\nCiudadanía y Libertad\nYouth and Dem
 ocracy in the Americas\nWelcome to Freedom\nUnited Human Rights Foundation
 \nSe complacen en invitarlos al evento\nPrimer Congreso 'Educación en Cuba
 '\nUn análisis&nbsp\;&nbsp\;sobre las violaciones de derechos y el adoctri
 namiento en el sistema educativo cubano\nViernes 16 de Agosto\, 2024. 9:30
  AM a 4:30 PM\nFlorida International University\nErnest R. Graham Center&n
 bsp\;Auditorio 150\n10955 SW 15th Terrace\, Miami\, FL 33199&nbsp\;\nProgr
 amación de Evento\nEl propósito del Congreso sobre Educación en Cuba es cr
 ear un espacio de discusión y reflexión sobre las violaciones de derechos 
 y el adoctrinamiento en el sistema educativo cubano. En el evento paticipa
 rán expertos en educación\, diferentes organizaciones políticas y activist
 as defensores de los derechos humanos de la sociedad civil del exilio y de
  Cuba.\nEl congreso busca:\n1. **Denunciar Violaciones**: Visibilizar las 
 irregularidades y prácticas que limitan la libertad de pensamiento y expre
 sión en la educación cubana.\n2. **Fomentar el Diálogo**: Reunir a académi
 cos\, educadores y activistas para intercambiar ideas y experiencias sobre
  el impacto del sistema educativo en la sociedad cubana.\n3. **Buscar Solu
 ciones**: Identificar y promover herramientas y metodologías que favorezca
 n una educación libre\, inclusiva y crítica en Cuba.\n4. **Generar Concien
 cia**: Sensibilizar a la comunidad internacional sobre la situación educat
 iva en Cuba y la necesidad de un cambio hacia un sistema que respete los d
 erechos humanos.\n5. **Construir Redes**: Establecer conexiones entre prof
 esionales y organizaciones que trabajen por una educación libre y de calid
 ad en Cuba y en otros contextos similares.\nEl congreso se propone ser un 
 punto de partida para la transformación educativa en Cuba\, promoviendo un
  enfoque que priorice la libertad\, la creatividad y el pensamiento crític
 o.\nEl evento es gratuito y abierto al público.\nHabrá una sesión de pregu
 ntas y respuestas. No dejen de asistir. Los esperamos.\n{loadposition subs
 cribe}
DTSTART:20240816T133000Z
DTEND:20240816T203000Z
GEO:00;0
LOCATION:FIU - Ernest R. Graham Center
ORGANIZER:
SEQUENCE:1
SUMMARY:Primer Congreso 'Educación en Cuba'
TRANSP:OPAQUE
URL:https://patriademarti.com/simposios/calendario-de-eventos/19-primer-con
 greso-educacion-en-cuba?layout=vcal
END:VEVENT
END:VCALENDAR
