BEGIN:VCALENDAR
VERSION:2.0
PRODID:-//Patria de Martí//NONSGML kigkonsult.se iCalcreator 2.41.92//
CALSCALE:GREGORIAN
METHOD:PUBLISH
UID:37626336-6338-4236-a536-393634653230
X-WR-CALNAME:iCagenda
X-WR-CALDESC:Event Management Extension for Joomla!
X-WR-RELCALID:3E26604A-50F4-4449-8B3E-E4F4932D05B5
X-WR-TIMEZONE:America/New_York
BEGIN:VTIMEZONE
TZID:America/New_York
TZUNTIL:20251102T060000Z
BEGIN:STANDARD
TZNAME:EST
DTSTART:20231105T020000
TZOFFSETFROM:-0400
TZOFFSETTO:-0500
RDATE:20241103T020000
END:STANDARD
BEGIN:DAYLIGHT
TZNAME:EDT
DTSTART:20240310T020000
TZOFFSETFROM:-0500
TZOFFSETTO:-0400
RDATE:20250309T020000
END:DAYLIGHT
END:VTIMEZONE
BEGIN:VEVENT
UID:35363734-3030-4531-a234-393661386562
DTSTAMP:20260423T205506Z
CATEGORIES:Almuerzos políticos
CLASS:PUBLIC
DESCRIPTION;ALTREP="CID:<FFFF__=0ABBE548DFE235B58f9e8a93d@coffeebean.com>":
 Invitación&nbsp\;Almuerzo 30 Aniversario de la Revista Herencia y Premios 
 Herencia\nHerencia Cultural Cubana\nPatria de Martí - The CubanAmerican Vo
 ice\nSe complacen en invitarlos al almuerzo\n30 Aniversario de la Revista 
 Herencia y Premios Herencia\nUn reconocimiento a las contribuciones a la c
 ultura cubana\nSábado 20 de Abril\, 2024. 12:30 PM\nBig Five Club\n600 SW 
 92nd AVE. MIAMI. FL 33174\nProgramación de Evento\nPalabras por el 30 Aniv
 ersario de la Revista Herencia\nEntrega de los Premios Herencia\nAlmuerzo 
 y conversatorio\nPlato&nbsp\;&nbsp\;$60.00&nbsp\;por persona Cash-Bar\nReg
 istración requerida\nPuede enviar su pago por Zelle al Email:\nhcc@herenci
 aculturalcubana.org\n\n\nEnlace directo:&nbsp\;https://patriademarti.com/p
 wa.html
DTSTART:20240420T163000Z
DTEND:20240420T193000Z
GEO:00;0
LOCATION:Big Five Club
ORGANIZER:
SEQUENCE:1
SUMMARY:Almuerzo 30 Aniversario de la Revista Herencia y Premios Herencia
TRANSP:OPAQUE
URL:https://patriademarti.com/simposios/calendario-de-eventos/18-almuerzo-3
 0-aniversario-de-la-revista-herencia-y-premios-herencia?layout=vcal
END:VEVENT
END:VCALENDAR
