BEGIN:VCALENDAR
VERSION:2.0
PRODID:-//Patria de Martí//NONSGML kigkonsult.se iCalcreator 2.41.92//
CALSCALE:GREGORIAN
METHOD:PUBLISH
UID:62306136-6535-4565-a331-353636666439
X-WR-CALNAME:iCagenda
X-WR-CALDESC:Event Management Extension for Joomla!
X-WR-RELCALID:3E26604A-50F4-4449-8B3E-E4F4932D05B5
X-WR-TIMEZONE:America/New_York
BEGIN:VTIMEZONE
TZID:America/New_York
TZUNTIL:20251102T060000Z
BEGIN:STANDARD
TZNAME:EST
DTSTART:20231105T020000
TZOFFSETFROM:-0400
TZOFFSETTO:-0500
RDATE:20241103T020000
END:STANDARD
BEGIN:DAYLIGHT
TZNAME:EDT
DTSTART:20240310T020000
TZOFFSETFROM:-0500
TZOFFSETTO:-0400
RDATE:20250309T020000
END:DAYLIGHT
END:VTIMEZONE
BEGIN:VEVENT
UID:62396336-6664-4136-a262-323935643239
DTSTAMP:20260423T205218Z
CATEGORIES:Almuerzos políticos
CLASS:PUBLIC
DESCRIPTION;ALTREP="CID:<FFFF__=0ABBE548DFE235B58f9e8a93d@coffeebean.com>":
 Invitación Almuerzo de confraternidad de Alpha 66\nAlpha 66\nPatria de Mar
 tí - The CubanAmerican Voice\nSe complacen en invitarlos al\nAlmuerzo de c
 onfraternidad de Alpha 66\nProyección del documental Operación Coraje*\nPr
 oducción: Caimán Production y&nbsp\;el Instituto de la Memoria Histórica C
 ubana Contra el Totalitarismo\nEn honor al 54 aniversario del desembarco d
 e Vicente Méndez\ny&nbsp\;el grupo de valerosos luchadores que lo acompaña
 ron\nDomingo 21 de Abril\, 2024. 12:30 a 4:30 PM\nLiceo&nbsp\;'La Luz'\n12
 4 NW 15 AVE\,&nbsp\;Miami\, FL 33125\nProgramación de Evento\nPalabras en 
 honor del&nbsp\;54 aniversario del desembarco de Vicente Méndez y el grupo
  de patriotas que lo acompañaron en su histórica misión\nProyección del do
 cumental Operación Coraje*\nProducción: Caimán Production y&nbsp\;el Insti
 tuto de la Memoria Histórica Cubana Contra el Totalitarismo\nAlmuerzo y co
 nversatorio\nAlmuerzo amplio y exquisito\, en fraternal colaboración con A
 lpha 66 y su historia del prestigioso restaurante&nbsp\;Islas Canarias\, g
 esto de solidaridad que agradecemos con afecto y gratitud.\nDonación&nbsp\
 ;(para los que tengan la posibilidad de hacerlo)&nbsp\;$25.00\n*Programado
  pero sujeto a disponibilidad del equipo técnico\nSobre el documental:&nbs
 p\;Operación Coraje\, basado en hechos reales con imágenes inéditas de los
  años 60 y 70\, recoge la heroicidad de Vicente Méndez y el grupo de patri
 otas que lo acompañaron en ese gesta épica de liberación. (Ver&nbsp\;trail
 er&nbsp\;📽️)\n&nbsp\;\n\n\nEnlace directo:&nbsp\;https://patriademarti.com
 /pwa.html
DTSTART:20240421T163000Z
DTEND:20240421T203000Z
GEO:00;0
LOCATION:Liceo 'La Luz'
ORGANIZER:
SEQUENCE:1
SUMMARY:Almuerzo de confraternidad de Alpha 66
TRANSP:OPAQUE
URL:https://patriademarti.com/simposios/calendario-de-eventos/17-almuerzo-d
 e-confraternidad-de-alpha-66?layout=vcal
END:VEVENT
END:VCALENDAR
