BEGIN:VCALENDAR
VERSION:2.0
PRODID:-//Patria de Martí//NONSGML kigkonsult.se iCalcreator 2.41.92//
CALSCALE:GREGORIAN
METHOD:PUBLISH
UID:32313034-3964-4362-b966-653466313265
X-WR-CALNAME:iCagenda
X-WR-CALDESC:Event Management Extension for Joomla!
X-WR-RELCALID:3E26604A-50F4-4449-8B3E-E4F4932D05B5
X-WR-TIMEZONE:America/New_York
BEGIN:VTIMEZONE
TZID:America/New_York
TZUNTIL:20251102T060000Z
BEGIN:STANDARD
TZNAME:EST
DTSTART:20231105T020000
TZOFFSETFROM:-0400
TZOFFSETTO:-0500
RDATE:20241103T020000
END:STANDARD
BEGIN:DAYLIGHT
TZNAME:EDT
DTSTART:20240310T020000
TZOFFSETFROM:-0500
TZOFFSETTO:-0400
RDATE:20250309T020000
END:DAYLIGHT
END:VTIMEZONE
BEGIN:VEVENT
UID:32663033-6539-4134-b832-353636333635
DTSTAMP:20260423T204842Z
CATEGORIES:Filmación
CLASS:PUBLIC
DESCRIPTION;ALTREP="CID:<FFFF__=0ABBE548DFE235B58f9e8a93d@coffeebean.com>":
 Vilaplana Films\nLas Madrinas\nFundacion Rescate Juridico\nMuseo Americano
  de la Diáspora Cubana\nAlpha 66\nPlantados Hasta la Libertad y la Democra
 cia en Cuba\nPatria de Martí - The CubanAmerican Voice\nMAR por Cuba\nPEN 
 Club de Escritores Cubanos en el Exilio\nInstituto de la Memoria Histórica
  Cubana Contra el Totalitarismo\nPresidio Político Histórico Cubano - Casa
  del Preso\nAsamblea de la Resistencia\nSe complacen en invitarlos a la\nP
 resentación del documental\nEl Patriota Ernesto Díaz Rodríguez\nViernes 22
  de Marzo\, 2024. 7 PM\nMuseo Americano de la Diáspora Cubana\n1200 Coral 
 Way\, Miami\, FL 33145\nProgramación de Evento\nProyección del documental 
 El Patriota Ernesto Díaz Rodríguez\n\n¿Cómo llegar al Museo Americano de l
 a Diáspora Cubana?
DTSTART:20240322T230000Z
DTEND:20240323T010000Z
GEO:00;0
LOCATION:Museo de la Diáspora Cubana
ORGANIZER:
SEQUENCE:1
SUMMARY:Presentación del documental El Patriota Ernesto Díaz Rodríguez
TRANSP:OPAQUE
URL:https://patriademarti.com/simposios/calendario-de-eventos/14-presentaci
 on-del-documental-el-patriota?layout=vcal
END:VEVENT
END:VCALENDAR
