BEGIN:VCALENDAR
VERSION:2.0
PRODID:-//Patria de Martí//NONSGML kigkonsult.se iCalcreator 2.41.92//
CALSCALE:GREGORIAN
METHOD:PUBLISH
UID:39623437-3365-4638-b562-353332336163
X-WR-CALNAME:iCagenda
X-WR-CALDESC:Event Management Extension for Joomla!
X-WR-RELCALID:3E26604A-50F4-4449-8B3E-E4F4932D05B5
X-WR-TIMEZONE:America/New_York
BEGIN:VTIMEZONE
TZID:America/New_York
TZUNTIL:20261101T060000Z
BEGIN:STANDARD
TZNAME:EST
DTSTART:20241103T020000
TZOFFSETFROM:-0400
TZOFFSETTO:-0500
RDATE:20251102T020000
END:STANDARD
BEGIN:DAYLIGHT
TZNAME:EDT
DTSTART:20240310T020000
TZOFFSETFROM:-0500
TZOFFSETTO:-0400
RDATE:20250309T020000
RDATE:20260308T020000
END:DAYLIGHT
END:VTIMEZONE
BEGIN:VEVENT
UID:37343939-6237-4230-b835-353062666666
DTSTAMP:20260423T203750Z
CATEGORIES:Simposios
CLASS:PUBLIC
DESCRIPTION;ALTREP="CID:<FFFF__=0ABBE548DFE235B58f9e8a93d@coffeebean.com>":
 Invitación&nbsp\;Simposio USA y el mundo: un nuevo curso\nPatria de Martí 
 - The CubanAmerican Voice\nAlianza Democrática\nSe complacen en invitarlos
  al Simposio\nSimposio USA y el mundo: un nuevo curso\nJueves 21 de Noviem
 bre\, 2024. 5:30 PM\nWestchester Regional Library\n9445 Coral Way\, Miami 
 FL 33165\nTransmisión en vivo desde nuestro sitio web&nbsp\;(patriademarti
 .com)\nProgramación de Evento\nPanelistas:\nJulio M. Shiling\,&nbsp\;Polit
 ólogo y director de&nbsp\;Patria de Martí&nbsp\;y&nbsp\;The CubanAmerican 
 Voice\nDiego Trinidad\,&nbsp\;Historiador e Investigador\nKatiuska Huggins
 \,&nbsp\;Politóloga y docente\nRoland J. Behar\,&nbsp\;Columnista y analis
 ta político\nFrank Rodríguez\,&nbsp\;Economista y editor\nProducción técni
 ca:&nbsp\;José Tarano&nbsp\;Electronics JR Computer Design\nEl evento es a
 bierto al público.&nbsp\;La entrada y el parqueo son gratis.\nSe transmiti
 rá en vivo por la página web&nbsp\;https://patriademarti.com&nbsp\;y los m
 edios sociales Facebook de Patria de Martí\, Twitter y YouTube en el canal
  T V Libertad\nHabrá una sesión de preguntas y respuestas. No dejen de asi
 stir. Los esperamos.\nPara estar informado subscríbete en el siguiente enl
 ace:\n{loadposition subscribe}
DTSTART:20241121T223000Z
DTEND:20241122T003000Z
GEO:00;0
LOCATION:Westchester Regional Library
ORGANIZER:
SEQUENCE:1
SUMMARY:Simposio USA y el mundo: un nuevo curso
TRANSP:OPAQUE
URL:https://patriademarti.com/simposios/calendario-de-eventos/11-simposio-u
 sa-y-el-mundo-un-nuevo-curso?layout=vcal
END:VEVENT
END:VCALENDAR
