BEGIN:VCALENDAR
VERSION:2.0
PRODID:-//Patria de Martí//NONSGML kigkonsult.se iCalcreator 2.41.92//
CALSCALE:GREGORIAN
METHOD:PUBLISH
UID:62373130-3638-4562-b533-346437653932
X-WR-CALNAME:iCagenda
X-WR-CALDESC:Event Management Extension for Joomla!
X-WR-RELCALID:3E26604A-50F4-4449-8B3E-E4F4932D05B5
X-WR-TIMEZONE:America/New_York
BEGIN:VTIMEZONE
TZID:America/New_York
TZUNTIL:20261101T060000Z
BEGIN:STANDARD
TZNAME:EST
DTSTART:20231105T020000
TZOFFSETFROM:-0400
TZOFFSETTO:-0500
RDATE:20241103T020000
RDATE:20251102T020000
END:STANDARD
BEGIN:DAYLIGHT
TZNAME:EDT
DTSTART:20240310T020000
TZOFFSETFROM:-0500
TZOFFSETTO:-0400
RDATE:20250309T020000
RDATE:20260308T020000
END:DAYLIGHT
END:VTIMEZONE
BEGIN:VEVENT
UID:36666532-3236-4461-b830-366134653236
DTSTAMP:20260423T205218Z
CATEGORIES:Simposios
CLASS:PUBLIC
DESCRIPTION;ALTREP="CID:<FFFF__=0ABBE548DFE235B58f9e8a93d@coffeebean.com>":
 Próximo Simposio programado para el 17 de octubre\, 2024.\nPara estar info
 rmado subscríbete en el siguiente enlace:\n{loadposition subscribe}
DTSTART:20241017T213000Z
DTEND:20241017T233000Z
GEO:00;0
LOCATION:Westchester Regional Library
ORGANIZER:
SEQUENCE:1
SUMMARY:Simposio 17 de octubre\, 2024
TRANSP:OPAQUE
URL:https://patriademarti.com/simposios/calendario-de-eventos/10-simposio-1
 7-de-octubre-2024?layout=vcal
END:VEVENT
END:VCALENDAR
