BEGIN:VCALENDAR
VERSION:2.0
PRODID:-//Patria de Martí//NONSGML kigkonsult.se iCalcreator 2.41.92//
CALSCALE:GREGORIAN
METHOD:PUBLISH
UID:34306166-3330-4037-a630-613937336237
X-WR-CALNAME:iCagenda
X-WR-CALDESC:Event Management Extension for Joomla!
X-WR-RELCALID:3E26604A-50F4-4449-8B3E-E4F4932D05B5
X-WR-TIMEZONE:America/New_York
BEGIN:VTIMEZONE
TZID:America/New_York
TZUNTIL:20251102T060000Z
BEGIN:STANDARD
TZNAME:EST
DTSTART:20231105T020000
TZOFFSETFROM:-0400
TZOFFSETTO:-0500
RDATE:20241103T020000
END:STANDARD
BEGIN:DAYLIGHT
TZNAME:EDT
DTSTART:20230312T020000
TZOFFSETFROM:-0500
TZOFFSETTO:-0400
RDATE:20240310T020000
RDATE:20250309T020000
END:DAYLIGHT
END:VTIMEZONE
BEGIN:VEVENT
UID:30383566-6531-4465-a361-383132643736
DTSTAMP:20260423T205336Z
CATEGORIES:Simposios
CLASS:PUBLIC
DESCRIPTION;ALTREP="CID:<FFFF__=0ABBE548DFE235B58f9e8a93d@coffeebean.com>":
 Patria de Martí -&nbsp\;The CubanAmerican Voice\nAlianza Democrática\nSe c
 omplacen en invitarlos al Simposio\n&nbsp\;Modelo argentino para América L
 atina\nJueves\, 22 de Febrero 2024\, 5:30 PM\nWestchester Regional Library
 \n9445 Coral Way\, Miami FL 33165\nTransmisión en vivo desde nuestro sitio
  web&nbsp\;(patriademarti.com)\nProgramación del Evento:\n¿Serviría el par
 adigma de Javier Milei\, liberal/libertario en lo económico y conservador 
 en lo social\, para promover la libertad?\nModerador:\nJulio M. Shiling\,&
 nbsp\;Politólogo y director de&nbsp\;Patria de Martí&nbsp\;y&nbsp\;The Cub
 anAmerican Voice\nPanelistas:\nHéctor Caraballo\,&nbsp\;Expreso político y
  analista político\nAlfredo Gómez Llorens\,&nbsp\;Historiador y economista
 \nJuan Maqueda\,&nbsp\;Director de Latam One y colaborador de la campaña d
 e Javier Milei en Miami\nProducción técnica:&nbsp\;José Tarano&nbsp\;Elect
 ronics JR Computer Design\nEl evento es abierto al público.&nbsp\;La entra
 da y el parqueo son gratis.\nSe transmitirá en vivo por la página web&nbsp
 \;https://patriademarti.com&nbsp\;y los medios sociales Facebook de Patria
  de Martí\, Twitter y YouTube en el canal T V Libertad\nHabrá una sesión d
 e preguntas y respuestas. No dejen de asistir. Los esperamos.\n&nbsp\;
DTSTART:20240222T223000Z
DTEND:20240223T003000Z
GEO:00;0
LOCATION:Westchester Regional Library
ORGANIZER:
SEQUENCE:1
SUMMARY:Simposio Modelo argentino para América Latina
TRANSP:OPAQUE
URL:https://patriademarti.com/simposios/calendario-de-eventos/1-simposio-mo
 delo-argentino-para-america-latina?layout=vcal
END:VEVENT
END:VCALENDAR
